Package: CytoGLMM Version: 1.17.3 Command: F:\biocbuild\bbs-3.22-bioc\R\bin\R.exe CMD check --no-multiarch --install=check:CytoGLMM.install-out.txt --library=F:\biocbuild\bbs-3.22-bioc\R\library --no-vignettes --timings CytoGLMM_1.17.3.tar.gz StartedAt: 2025-08-15 02:12:15 -0400 (Fri, 15 Aug 2025) EndedAt: 2025-08-15 02:14:58 -0400 (Fri, 15 Aug 2025) EllapsedTime: 162.8 seconds RetCode: 0 Status: OK CheckDir: CytoGLMM.Rcheck Warnings: 0