Package: CytoGLMM Version: 1.17.3 Command: chmod a+r CytoGLMM -R && F:\biocbuild\bbs-3.22-bioc\R\bin\R.exe CMD build --keep-empty-dirs --no-resave-data CytoGLMM StartedAt: 2025-08-14 19:26:40 -0400 (Thu, 14 Aug 2025) EndedAt: 2025-08-14 19:29:22 -0400 (Thu, 14 Aug 2025) EllapsedTime: 161.6 seconds RetCode: 0 Status: OK PackageFile: CytoGLMM_1.17.3.tar.gz PackageFileSize: 295.2 KiB