Package: CytoGLMM Version: 1.18.0 Command: rm -rf CytoGLMM.buildbin-libdir && mkdir CytoGLMM.buildbin-libdir && /Users/biocbuild/BBS/utils/build-universal.sh CytoGLMM_1.18.0.tar.gz /Library/Frameworks/R.framework/Resources/bin/R CytoGLMM.buildbin-libdir StartedAt: 2025-11-18 17:28:53 -0500 (Tue, 18 Nov 2025) EndedAt: 2025-11-18 17:29:26 -0500 (Tue, 18 Nov 2025) EllapsedTime: 32.4 seconds RetCode: 0 Status: OK PackageFile: CytoGLMM_1.18.0.tgz PackageFileSize: 432.7 KiB