Package: CytoGLMM Version: 1.18.0 Command: /Library/Frameworks/R.framework/Resources/bin/R CMD INSTALL CytoGLMM StartedAt: 2025-11-03 15:17:28 -0500 (Mon, 03 Nov 2025) EndedAt: 2025-11-03 15:18:00 -0500 (Mon, 03 Nov 2025) EllapsedTime: 31.1 seconds RetCode: 0 Status: OK