Package: CytoGLMM Version: 1.18.0 Command: /Library/Frameworks/R.framework/Resources/bin/R CMD check --install=check:CytoGLMM.install-out.txt --library=/Library/Frameworks/R.framework/Resources/library --no-vignettes --timings CytoGLMM_1.18.0.tar.gz StartedAt: 2025-11-03 20:32:54 -0500 (Mon, 03 Nov 2025) EndedAt: 2025-11-03 20:35:18 -0500 (Mon, 03 Nov 2025) EllapsedTime: 143.6 seconds RetCode: 0 Status: OK CheckDir: CytoGLMM.Rcheck Warnings: 0