Package: CytoGLMM Version: 1.18.0 Command: rm -rf CytoGLMM.buildbin-libdir && mkdir CytoGLMM.buildbin-libdir && /Users/biocbuild/BBS/utils/build-universal.sh CytoGLMM_1.18.0.tar.gz /Library/Frameworks/R.framework/Resources/bin/R CytoGLMM.buildbin-libdir StartedAt: 2025-11-04 01:35:37 -0500 (Tue, 04 Nov 2025) EndedAt: 2025-11-04 01:35:59 -0500 (Tue, 04 Nov 2025) EllapsedTime: 22.1 seconds RetCode: 0 Status: OK PackageFile: CytoGLMM_1.18.0.tgz PackageFileSize: 430.7 KiB