Package: CyTOFpower Version: 1.16.0 Command: /Library/Frameworks/R.framework/Resources/bin/R CMD check --install=check:CyTOFpower.install-out.txt --library=/Library/Frameworks/R.framework/Resources/library --no-vignettes --timings CyTOFpower_1.16.0.tar.gz StartedAt: 2025-11-03 20:32:52 -0500 (Mon, 03 Nov 2025) EndedAt: 2025-11-03 20:34:11 -0500 (Mon, 03 Nov 2025) EllapsedTime: 79.1 seconds RetCode: 0 Status: OK CheckDir: CyTOFpower.Rcheck Warnings: 0