Package: CyTOFpower Version: 1.16.0 Command: /Library/Frameworks/R.framework/Resources/bin/R CMD build --keep-empty-dirs --no-resave-data CyTOFpower StartedAt: 2025-10-31 16:10:00 -0400 (Fri, 31 Oct 2025) EndedAt: 2025-10-31 16:10:04 -0400 (Fri, 31 Oct 2025) EllapsedTime: 4.0 seconds RetCode: 0 Status: OK PackageFile: CyTOFpower_1.16.0.tar.gz PackageFileSize: 312.2 KiB