Package: CuratedAtlasQueryR Version: 1.7.0 Command: /home/biocbuild/R/R/bin/R CMD build --keep-empty-dirs --no-resave-data CuratedAtlasQueryR StartedAt: 2025-10-17 00:23:14 -0000 (Fri, 17 Oct 2025) EndedAt: 2025-10-17 00:25:50 -0000 (Fri, 17 Oct 2025) EllapsedTime: 156.1 seconds RetCode: 0 Status: OK PackageFile: CuratedAtlasQueryR_1.7.0.tar.gz PackageFileSize: 915.6 KiB