Package: CuratedAtlasQueryR Version: 1.7.0 Command: /home/biocbuild/bbs-3.22-bioc/R/bin/R CMD build --keep-empty-dirs --no-resave-data --md5 CuratedAtlasQueryR StartedAt: 2025-10-19 17:08:20 -0400 (Sun, 19 Oct 2025) EndedAt: 2025-10-19 17:10:06 -0400 (Sun, 19 Oct 2025) EllapsedTime: 106.1 seconds RetCode: 0 Status: OK PackageFile: CuratedAtlasQueryR_1.7.0.tar.gz PackageFileSize: 978.9 KiB