Package: CuratedAtlasQueryR Version: 1.7.0 Command: /Library/Frameworks/R.framework/Resources/bin/R CMD INSTALL CuratedAtlasQueryR StartedAt: 2025-10-19 15:21:57 -0400 (Sun, 19 Oct 2025) EndedAt: 2025-10-19 15:22:51 -0400 (Sun, 19 Oct 2025) EllapsedTime: 54.4 seconds RetCode: 0 Status: OK