Package: CuratedAtlasQueryR Version: 1.7.0 Command: /Library/Frameworks/R.framework/Resources/bin/R CMD check --install=check:CuratedAtlasQueryR.install-out.txt --library=/Library/Frameworks/R.framework/Resources/library --no-vignettes --timings CuratedAtlasQueryR_1.7.0.tar.gz StartedAt: 2025-10-19 21:25:26 -0400 (Sun, 19 Oct 2025) EndedAt: 2025-10-19 21:31:53 -0400 (Sun, 19 Oct 2025) EllapsedTime: 386.8 seconds RetCode: 0 Status: OK CheckDir: CuratedAtlasQueryR.Rcheck Warnings: 0