Package: CuratedAtlasQueryR Version: 1.7.0 Command: /Library/Frameworks/R.framework/Resources/bin/R CMD build --keep-empty-dirs --no-resave-data CuratedAtlasQueryR StartedAt: 2025-10-19 16:43:02 -0400 (Sun, 19 Oct 2025) EndedAt: 2025-10-19 16:46:51 -0400 (Sun, 19 Oct 2025) EllapsedTime: 228.9 seconds RetCode: 0 Status: OK PackageFile: CuratedAtlasQueryR_1.7.0.tar.gz PackageFileSize: 967.3 KiB