Package: CuratedAtlasQueryR Version: 1.7.0 Command: /Library/Frameworks/R.framework/Resources/bin/R CMD INSTALL CuratedAtlasQueryR StartedAt: 2025-10-19 15:11:55 -0400 (Sun, 19 Oct 2025) EndedAt: 2025-10-19 15:12:11 -0400 (Sun, 19 Oct 2025) EllapsedTime: 15.5 seconds RetCode: 0 Status: OK