Package: CrispRVariants Version: 1.37.0 Command: /Library/Frameworks/R.framework/Resources/bin/R CMD INSTALL CrispRVariants StartedAt: 2025-09-30 15:26:39 -0400 (Tue, 30 Sep 2025) EndedAt: 2025-09-30 15:27:39 -0400 (Tue, 30 Sep 2025) EllapsedTime: 59.4 seconds RetCode: 0 Status: OK