Package: CrispRVariants Version: 1.37.0 Command: /Library/Frameworks/R.framework/Resources/bin/R CMD check --install=check:CrispRVariants.install-out.txt --library=/Library/Frameworks/R.framework/Resources/library --no-vignettes --timings CrispRVariants_1.37.0.tar.gz StartedAt: 2025-10-01 20:34:56 -0400 (Wed, 01 Oct 2025) EndedAt: 2025-10-01 20:41:01 -0400 (Wed, 01 Oct 2025) EllapsedTime: 365.2 seconds RetCode: 0 Status: WARNINGS CheckDir: CrispRVariants.Rcheck Warnings: 2