Package: CrispRVariants Version: 1.37.0 Command: rm -rf CrispRVariants.buildbin-libdir && mkdir CrispRVariants.buildbin-libdir && /Users/biocbuild/BBS/utils/build-universal.sh CrispRVariants_1.37.0.tar.gz /Library/Frameworks/R.framework/Resources/bin/R CrispRVariants.buildbin-libdir StartedAt: 2025-10-02 01:45:16 -0400 (Thu, 02 Oct 2025) EndedAt: 2025-10-02 01:46:21 -0400 (Thu, 02 Oct 2025) EllapsedTime: 64.7 seconds RetCode: 0 Status: OK PackageFile: CrispRVariants_1.37.0.tgz PackageFileSize: 3.938 MiB