Package: Cormotif Version: 1.55.0 Command: /Library/Frameworks/R.framework/Resources/bin/R CMD INSTALL Cormotif StartedAt: 2025-10-19 15:16:17 -0400 (Sun, 19 Oct 2025) EndedAt: 2025-10-19 15:16:27 -0400 (Sun, 19 Oct 2025) EllapsedTime: 10.2 seconds RetCode: 0 Status: OK