Package: Cormotif Version: 1.55.0 Command: /Library/Frameworks/R.framework/Resources/bin/R CMD build --keep-empty-dirs --no-resave-data Cormotif StartedAt: 2025-10-20 16:35:34 -0400 (Mon, 20 Oct 2025) EndedAt: 2025-10-20 16:36:15 -0400 (Mon, 20 Oct 2025) EllapsedTime: 41.2 seconds RetCode: 0 Status: OK PackageFile: Cormotif_1.55.0.tar.gz PackageFileSize: 375.1 KiB