Package: Cormotif Version: 1.55.0 Command: rm -rf Cormotif.buildbin-libdir && mkdir Cormotif.buildbin-libdir && /Users/biocbuild/BBS/utils/build-universal.sh Cormotif_1.55.0.tar.gz /Library/Frameworks/R.framework/Resources/bin/R Cormotif.buildbin-libdir StartedAt: 2025-10-20 03:03:21 -0400 (Mon, 20 Oct 2025) EndedAt: 2025-10-20 03:03:29 -0400 (Mon, 20 Oct 2025) EllapsedTime: 8.0 seconds RetCode: 0 Status: OK PackageFile: Cormotif_1.55.0.tgz PackageFileSize: 430.2 KiB