Package: CoreGx Version: 2.14.0 Command: /home/biocbuild/R/R/bin/R CMD INSTALL CoreGx StartedAt: 2025-11-17 21:30:13 -0000 (Mon, 17 Nov 2025) EndedAt: 2025-11-17 21:31:05 -0000 (Mon, 17 Nov 2025) EllapsedTime: 52.1 seconds RetCode: 0 Status: OK