Package: CoreGx Version: 2.14.0 Command: /home/biocbuild/R/R/bin/R CMD check --install=check:CoreGx.install-out.txt --library=/home/biocbuild/R/R/site-library --no-vignettes --timings CoreGx_2.14.0.tar.gz StartedAt: 2025-11-18 08:34:42 -0000 (Tue, 18 Nov 2025) EndedAt: 2025-11-18 08:41:14 -0000 (Tue, 18 Nov 2025) EllapsedTime: 392.3 seconds RetCode: 0 Status: OK CheckDir: CoreGx.Rcheck Warnings: 0