Package: CoreGx Version: 2.14.0 Command: /home/biocbuild/R/R/bin/R CMD build --keep-empty-dirs --no-resave-data CoreGx StartedAt: 2025-11-18 00:43:36 -0000 (Tue, 18 Nov 2025) EndedAt: 2025-11-18 00:44:54 -0000 (Tue, 18 Nov 2025) EllapsedTime: 78.0 seconds RetCode: 0 Status: OK PackageFile: CoreGx_2.14.0.tar.gz PackageFileSize: 1.387 MiB