Package: CoreGx Version: 2.14.0 Command: /Library/Frameworks/R.framework/Resources/bin/R CMD INSTALL CoreGx StartedAt: 2025-11-17 17:33:55 -0500 (Mon, 17 Nov 2025) EndedAt: 2025-11-17 17:35:23 -0500 (Mon, 17 Nov 2025) EllapsedTime: 88.5 seconds RetCode: 0 Status: OK