Package: CoreGx Version: 2.14.0 Command: /Library/Frameworks/R.framework/Resources/bin/R CMD check --install=check:CoreGx.install-out.txt --library=/Library/Frameworks/R.framework/Resources/library --no-vignettes --timings CoreGx_2.14.0.tar.gz StartedAt: 2025-11-18 05:43:30 -0500 (Tue, 18 Nov 2025) EndedAt: 2025-11-18 05:59:24 -0500 (Tue, 18 Nov 2025) EllapsedTime: 954.2 seconds RetCode: 0 Status: OK CheckDir: CoreGx.Rcheck Warnings: 0