Package: CopyNumberPlots Version: 1.25.0 Command: /home/biocbuild/R/R/bin/R CMD INSTALL CopyNumberPlots StartedAt: 2025-10-16 22:07:14 -0000 (Thu, 16 Oct 2025) EndedAt: 2025-10-16 22:08:14 -0000 (Thu, 16 Oct 2025) EllapsedTime: 59.8 seconds RetCode: 0 Status: OK