Package: CopyNumberPlots Version: 1.25.0 Command: /home/biocbuild/R/R/bin/R CMD build --keep-empty-dirs --no-resave-data CopyNumberPlots StartedAt: 2025-10-17 00:13:47 -0000 (Fri, 17 Oct 2025) EndedAt: 2025-10-17 00:16:03 -0000 (Fri, 17 Oct 2025) EllapsedTime: 136.0 seconds RetCode: 0 Status: OK PackageFile: CopyNumberPlots_1.25.0.tar.gz PackageFileSize: 1.006 MiB