Package: CopyNumberPlots Version: 1.25.0 Command: /Library/Frameworks/R.framework/Resources/bin/R CMD INSTALL CopyNumberPlots StartedAt: 2025-10-19 15:42:10 -0400 (Sun, 19 Oct 2025) EndedAt: 2025-10-19 15:43:17 -0400 (Sun, 19 Oct 2025) EllapsedTime: 66.6 seconds RetCode: 0 Status: OK