Package: CopyNumberPlots Version: 1.25.0 Command: /Library/Frameworks/R.framework/Resources/bin/R CMD check --install=check:CopyNumberPlots.install-out.txt --library=/Library/Frameworks/R.framework/Resources/library --no-vignettes --timings CopyNumberPlots_1.25.0.tar.gz StartedAt: 2025-10-19 21:17:09 -0400 (Sun, 19 Oct 2025) EndedAt: 2025-10-19 21:23:26 -0400 (Sun, 19 Oct 2025) EllapsedTime: 376.6 seconds RetCode: 0 Status: OK CheckDir: CopyNumberPlots.Rcheck Warnings: 0