Package: CopyNumberPlots Version: 1.25.0 Command: rm -rf CopyNumberPlots.buildbin-libdir && mkdir CopyNumberPlots.buildbin-libdir && /Users/biocbuild/BBS/utils/build-universal.sh CopyNumberPlots_1.25.0.tar.gz /Library/Frameworks/R.framework/Resources/bin/R CopyNumberPlots.buildbin-libdir StartedAt: 2025-10-20 03:03:13 -0400 (Mon, 20 Oct 2025) EndedAt: 2025-10-20 03:04:23 -0400 (Mon, 20 Oct 2025) EllapsedTime: 70.7 seconds RetCode: 0 Status: OK PackageFile: CopyNumberPlots_1.25.0.tgz PackageFileSize: 3.025 MiB