Package: CopyNumberPlots Version: 1.25.0 Command: /Library/Frameworks/R.framework/Resources/bin/R CMD INSTALL CopyNumberPlots StartedAt: 2025-10-03 15:24:03 -0400 (Fri, 03 Oct 2025) EndedAt: 2025-10-03 15:24:23 -0400 (Fri, 03 Oct 2025) EllapsedTime: 20.1 seconds RetCode: 0 Status: OK