Package: CopyNumberPlots Version: 1.25.0 Command: /Library/Frameworks/R.framework/Resources/bin/R CMD build --keep-empty-dirs --no-resave-data CopyNumberPlots StartedAt: 2025-10-03 16:00:23 -0400 (Fri, 03 Oct 2025) EndedAt: 2025-10-03 16:01:01 -0400 (Fri, 03 Oct 2025) EllapsedTime: 38.5 seconds RetCode: 0 Status: OK PackageFile: CopyNumberPlots_1.25.0.tar.gz PackageFileSize: 2.911 MiB