Package: CopyNumberPlots Version: 1.25.0 Command: rm -rf CopyNumberPlots.buildbin-libdir && mkdir CopyNumberPlots.buildbin-libdir && /Users/biocbuild/BBS/utils/build-universal.sh CopyNumberPlots_1.25.0.tar.gz /Library/Frameworks/R.framework/Resources/bin/R CopyNumberPlots.buildbin-libdir StartedAt: 2025-10-03 22:35:18 -0400 (Fri, 03 Oct 2025) EndedAt: 2025-10-03 22:35:40 -0400 (Fri, 03 Oct 2025) EllapsedTime: 21.4 seconds RetCode: 0 Status: OK PackageFile: CopyNumberPlots_1.25.0.tgz PackageFileSize: 3.045 MiB