Package: ComplexHeatmap Version: 2.25.2 Command: F:\biocbuild\bbs-3.22-bioc\R\bin\R.exe CMD check --no-multiarch --install=check:ComplexHeatmap.install-out.txt --library=F:\biocbuild\bbs-3.22-bioc\R\library --no-vignettes --timings ComplexHeatmap_2.25.2.tar.gz StartedAt: 2025-08-15 01:53:21 -0400 (Fri, 15 Aug 2025) EndedAt: 2025-08-15 02:00:57 -0400 (Fri, 15 Aug 2025) EllapsedTime: 456.4 seconds RetCode: 0 Status: OK CheckDir: ComplexHeatmap.Rcheck Warnings: 0