Package: ComplexHeatmap Version: 2.26.0 Command: /Library/Frameworks/R.framework/Resources/bin/R CMD build --keep-empty-dirs --no-resave-data ComplexHeatmap StartedAt: 2025-11-17 21:22:29 -0500 (Mon, 17 Nov 2025) EndedAt: 2025-11-17 21:23:59 -0500 (Mon, 17 Nov 2025) EllapsedTime: 89.3 seconds RetCode: 0 Status: OK PackageFile: ComplexHeatmap_2.26.0.tar.gz PackageFileSize: 1.412 MiB