Package: ComplexHeatmap Version: 2.26.0 Command: rm -rf ComplexHeatmap.buildbin-libdir && mkdir ComplexHeatmap.buildbin-libdir && /Users/biocbuild/BBS/utils/build-universal.sh ComplexHeatmap_2.26.0.tar.gz /Library/Frameworks/R.framework/Resources/bin/R ComplexHeatmap.buildbin-libdir StartedAt: 2025-11-18 17:25:03 -0500 (Tue, 18 Nov 2025) EndedAt: 2025-11-18 17:25:59 -0500 (Tue, 18 Nov 2025) EllapsedTime: 56.7 seconds RetCode: 0 Status: OK PackageFile: ComplexHeatmap_2.26.0.tgz PackageFileSize: 3.034 MiB