Package: ComPrAn Version: 1.17.0 Command: /home/biocbuild/R/R/bin/R CMD INSTALL ComPrAn StartedAt: 2025-10-23 20:27:22 -0000 (Thu, 23 Oct 2025) EndedAt: 2025-10-23 20:27:46 -0000 (Thu, 23 Oct 2025) EllapsedTime: 23.4 seconds RetCode: 0 Status: OK