Package: ComPrAn Version: 1.17.0 Command: /home/biocbuild/R/R/bin/R CMD check --install=check:ComPrAn.install-out.txt --library=/home/biocbuild/R/R/site-library --no-vignettes --timings ComPrAn_1.17.0.tar.gz StartedAt: 2025-10-21 06:46:48 -0000 (Tue, 21 Oct 2025) EndedAt: 2025-10-21 06:48:10 -0000 (Tue, 21 Oct 2025) EllapsedTime: 82.1 seconds RetCode: 0 Status: OK CheckDir: ComPrAn.Rcheck Warnings: 0