Package: ComPrAn Version: 1.17.0 Command: /home/biocbuild/R/R/bin/R CMD build --keep-empty-dirs --no-resave-data ComPrAn StartedAt: 2025-10-20 22:54:35 -0000 (Mon, 20 Oct 2025) EndedAt: 2025-10-20 22:55:10 -0000 (Mon, 20 Oct 2025) EllapsedTime: 35.0 seconds RetCode: 0 Status: OK PackageFile: ComPrAn_1.17.0.tar.gz PackageFileSize: 3.092 MiB