Package: Cogito Version: 1.15.2 Command: /home/biocbuild/R/R/bin/R CMD INSTALL Cogito StartedAt: 2025-10-16 22:02:54 -0000 (Thu, 16 Oct 2025) EndedAt: 2025-10-16 22:03:42 -0000 (Thu, 16 Oct 2025) EllapsedTime: 48.0 seconds RetCode: 0 Status: OK