Package: Cogito Version: 1.15.2 Command: /home/biocbuild/R/R/bin/R CMD check --install=check:Cogito.install-out.txt --library=/home/biocbuild/R/R/site-library --no-vignettes --timings Cogito_1.15.2.tar.gz StartedAt: 2025-10-21 06:42:46 -0000 (Tue, 21 Oct 2025) EndedAt: 2025-10-21 06:48:30 -0000 (Tue, 21 Oct 2025) EllapsedTime: 344.2 seconds RetCode: 0 Status: OK CheckDir: Cogito.Rcheck Warnings: 0