Package: Cogito Version: 1.15.2 Command: /home/biocbuild/R/R/bin/R CMD build --keep-empty-dirs --no-resave-data Cogito StartedAt: 2025-10-17 00:09:18 -0000 (Fri, 17 Oct 2025) EndedAt: 2025-10-17 00:10:52 -0000 (Fri, 17 Oct 2025) EllapsedTime: 94.0 seconds RetCode: 0 Status: OK PackageFile: Cogito_1.15.2.tar.gz PackageFileSize: 893.2 KiB