Package: Cogito Version: 1.15.2 Command: /Library/Frameworks/R.framework/Resources/bin/R CMD INSTALL Cogito StartedAt: 2025-10-19 15:40:12 -0400 (Sun, 19 Oct 2025) EndedAt: 2025-10-19 15:41:06 -0400 (Sun, 19 Oct 2025) EllapsedTime: 53.5 seconds RetCode: 0 Status: OK