Package: Cogito Version: 1.15.2 Command: /Library/Frameworks/R.framework/Resources/bin/R CMD INSTALL Cogito StartedAt: 2025-10-17 15:22:03 -0400 (Fri, 17 Oct 2025) EndedAt: 2025-10-17 15:22:19 -0400 (Fri, 17 Oct 2025) EllapsedTime: 15.4 seconds RetCode: 0 Status: OK