Package: Cogito Version: 1.15.2 Command: /Library/Frameworks/R.framework/Resources/bin/R CMD check --install=check:Cogito.install-out.txt --library=/Library/Frameworks/R.framework/Resources/library --no-vignettes --timings Cogito_1.15.2.tar.gz StartedAt: 2025-10-19 19:01:13 -0400 (Sun, 19 Oct 2025) EndedAt: 2025-10-19 19:03:01 -0400 (Sun, 19 Oct 2025) EllapsedTime: 108.3 seconds RetCode: 0 Status: OK CheckDir: Cogito.Rcheck Warnings: 0