Package: CoSIA Version: 1.10.0 Command: /Library/Frameworks/R.framework/Resources/bin/R CMD build --keep-empty-dirs --no-resave-data CoSIA StartedAt: 2025-10-31 16:39:57 -0400 (Fri, 31 Oct 2025) EndedAt: 2025-10-31 16:46:43 -0400 (Fri, 31 Oct 2025) EllapsedTime: 406.5 seconds RetCode: 0 Status: OK PackageFile: CoSIA_1.10.0.tar.gz PackageFileSize: 1.166 MiB