Package: CoGAPS Version: 3.29.1 Command: /home/biocbuild/bbs-3.22-bioc/R/bin/R CMD INSTALL CoGAPS StartedAt: 2025-10-27 15:21:43 -0400 (Mon, 27 Oct 2025) EndedAt: 2025-10-27 15:23:55 -0400 (Mon, 27 Oct 2025) EllapsedTime: 132.6 seconds RetCode: 0 Status: OK