Package: CoGAPS Version: 3.29.1 Command: /home/biocbuild/bbs-3.22-bioc/R/bin/R CMD build --keep-empty-dirs --no-resave-data --md5 CoGAPS StartedAt: 2025-10-27 16:57:34 -0400 (Mon, 27 Oct 2025) EndedAt: 2025-10-27 16:59:23 -0400 (Mon, 27 Oct 2025) EllapsedTime: 109.1 seconds RetCode: 0 Status: OK PackageFile: CoGAPS_3.29.1.tar.gz PackageFileSize: 19.84 MiB