Package: CoCiteStats Version: 1.81.0 Command: rm -rf CoCiteStats.buildbin-libdir && mkdir CoCiteStats.buildbin-libdir && F:\biocbuild\bbs-3.22-bioc\R\bin\R.exe CMD INSTALL --build --library=CoCiteStats.buildbin-libdir CoCiteStats_1.81.0.tar.gz StartedAt: 2025-08-15 10:00:02 -0400 (Fri, 15 Aug 2025) EndedAt: 2025-08-15 10:00:21 -0400 (Fri, 15 Aug 2025) EllapsedTime: 18.4 seconds RetCode: 0 Status: OK PackageFile: CoCiteStats_1.81.0.zip PackageFileSize: 35.15 KiB