Package: CoCiteStats Version: 1.81.0 Command: /home/biocbuild/bbs-3.22-bioc/R/bin/R CMD INSTALL CoCiteStats StartedAt: 2025-10-20 15:37:10 -0400 (Mon, 20 Oct 2025) EndedAt: 2025-10-20 15:37:23 -0400 (Mon, 20 Oct 2025) EllapsedTime: 12.9 seconds RetCode: 0 Status: OK